BEGIN:VCALENDAR
VERSION:2.0
PRODID:CESNI - Comité Européen pour l’Élaboration de Standards dans le domaine de la Navigation Intérieure
CALSCALE:GREGORIAN
X-WR-TIMEZONE:Europe/Paris
X-WR-RELCALID:1234
X-PRIMARY-CALENDAR:TRUE
BEGIN:VEVENT
CREATED:20211209T084213
UID:55332
DTSTART:20220216
DTEND:20220216
DTSTAMP:20260421T095658
LOCATION:2 Place de la République\, Strasbourg\, France
DESCRIPTION:Tijdelijke Werkgroep voor bemanningsvoorschriften (online)
SUMMARY:Tijdelijke Werkgroep voor bemanningsvoorschriften (online)
ORGANIZER;CN=CESNI:mailto:info@cesni.eu
URL;VALUE=URI:https://www.cesni.eu/nl/evenements/tijdelijke-werkgroep-voor-bemanningsvoorschriften-6/
TRANSP:OPAQUE
END:VEVENT
END:VCALENDAR