BEGIN:VCALENDAR
VERSION:2.0
PRODID:CESNI - Comité Européen pour l’Élaboration de Standards dans le domaine de la Navigation Intérieure
CALSCALE:GREGORIAN
X-WR-TIMEZONE:Europe/Paris
X-WR-RELCALID:1234
X-PRIMARY-CALENDAR:TRUE
BEGIN:VEVENT
CREATED:20210615T125216
UID:78413
DTSTART:20211028
DTEND:20211028
DTSTAMP:20260421T114928
LOCATION:2 Place de la République\, Strasbourg\, France
DESCRIPTION:Europese Comité voor de opstelling van standaarden voor de binnenvaart – online
SUMMARY:Europese Comité voor de opstelling van standaarden voor de binnenvaart – online
ORGANIZER;CN=CESNI:mailto:info@cesni.eu
URL;VALUE=URI:https://www.cesni.eu/nl/evenements/europese-comite-voor-de-opstelling-van-standaarden-voor-de-binnenvaart-online/
TRANSP:OPAQUE
END:VEVENT
END:VCALENDAR