BEGIN:VCALENDAR
VERSION:2.0
PRODID:CESNI - Comité Européen pour l’Élaboration de Standards dans le domaine de la Navigation Intérieure
CALSCALE:GREGORIAN
X-WR-TIMEZONE:Europe/Paris
X-WR-RELCALID:1234
X-PRIMARY-CALENDAR:TRUE
BEGIN:VEVENT
CREATED:20160706T152251
UID:21469
DTSTART:20160907
DTEND:20160907
DTSTAMP:20260421T101532
LOCATION:Ispra\, Varèse\, Italie
DESCRIPTION:Werkgroep voor beroepskwalificaties
SUMMARY:Werkgroep voor beroepskwalificaties (CESNI/QP) Vertolking: en fr de nlWerkgroep voor beroepskwalificaties
ORGANIZER;CN=CESNI:mailto:info@cesni.eu
URL;VALUE=URI:https://www.cesni.eu/nl/evenements/groupe-de-travail-relatif-aux-qualifications-professionnelles/
TRANSP:OPAQUE
END:VEVENT
END:VCALENDAR