BEGIN:VCALENDAR
VERSION:2.0
PRODID:CESNI - Comité Européen pour l’Élaboration de Standards dans le domaine de la Navigation Intérieure
CALSCALE:GREGORIAN
X-WR-TIMEZONE:Europe/Paris
X-WR-RELCALID:1234
X-PRIMARY-CALENDAR:TRUE
BEGIN:VEVENT
CREATED:20191105T135125
UID:59675
DTSTART:20201103
DTEND:20201103
DTSTAMP:20260420T231954
LOCATION:1 Place de la République\, 67000 Strasbourg\, France
DESCRIPTION:Tijdelijke werkgroep voor bemanningsvoorschriften – ONLINE VERGADERING
SUMMARY:Tijdelijke werkgroep voor bemanningsvoorschriften – ONLINE VERGADERING
ORGANIZER;CN=CESNI:mailto:info@cesni.eu
URL;VALUE=URI:https://www.cesni.eu/nl/evenements/tijdelijke-werkgroep-voor-bemanningsvoorschriften-3/
TRANSP:OPAQUE
END:VEVENT
END:VCALENDAR