BEGIN:VCALENDAR
VERSION:2.0
PRODID:CESNI - Comité Européen pour l’Élaboration de Standards dans le domaine de la Navigation Intérieure
CALSCALE:GREGORIAN
X-WR-TIMEZONE:Europe/Paris
X-WR-RELCALID:1234
X-PRIMARY-CALENDAR:TRUE
BEGIN:VEVENT
CREATED:20190829T091056
UID:48594
DTSTART:20201117
DTEND:20201117
DTSTAMP:20260419T122222
LOCATION:Palais du Rhin\, Place de la République\, Strasbourg\, France
DESCRIPTION:Werkgroep voor technische voorschriften – ONLINE VERGADERING
SUMMARY:Werkgroep voor technische voorschriften – ONLINE VERGADERING
ORGANIZER;CN=CESNI:mailto:info@cesni.eu
URL;VALUE=URI:https://www.cesni.eu/nl/evenements/werkgroep-voor-technische-voorschriften-tbc-3/
TRANSP:OPAQUE
END:VEVENT
BEGIN:VEVENT
CREATED:20190829T091056
UID:35995
DTSTART:20201118
DTEND:20201118
DTSTAMP:20260419T122222
LOCATION:Palais du Rhin\, Place de la République\, Strasbourg\, France
DESCRIPTION:Werkgroep voor technische voorschriften – ONLINE VERGADERING
SUMMARY:Werkgroep voor technische voorschriften – ONLINE VERGADERING
ORGANIZER;CN=CESNI:mailto:info@cesni.eu
URL;VALUE=URI:https://www.cesni.eu/nl/evenements/werkgroep-voor-technische-voorschriften-tbc-3/
TRANSP:OPAQUE
END:VEVENT
END:VCALENDAR