BEGIN:VCALENDAR
VERSION:2.0
PRODID:CESNI - Comité Européen pour l’Élaboration de Standards dans le domaine de la Navigation Intérieure
CALSCALE:GREGORIAN
X-WR-TIMEZONE:Europe/Paris
X-WR-RELCALID:1234
X-PRIMARY-CALENDAR:TRUE
BEGIN:VEVENT
CREATED:20160706T152251
UID:62883
DTSTART:20160907
DTEND:20160907
DTSTAMP:20260421T114749
LOCATION:Ispra\, Varèse\, Italie
DESCRIPTION:Groupe de travail relatif aux qualifications professionnelles
SUMMARY:Groupe de travail relatif aux qualifications professionnelles (CESNI/QP) Langues interprétées : en fr de nlGroupe de travail relatif aux qualifications professionnelles
ORGANIZER;CN=CESNI:mailto:info@cesni.eu
URL;VALUE=URI:https://www.cesni.eu/evenements/groupe-de-travail-relatif-aux-qualifications-professionnelles/
TRANSP:OPAQUE
END:VEVENT
END:VCALENDAR