BEGIN:VCALENDAR
VERSION:2.0
PRODID:CESNI - Comité Européen pour l’Élaboration de Standards dans le domaine de la Navigation Intérieure
CALSCALE:GREGORIAN
X-WR-TIMEZONE:Europe/Paris
X-WR-RELCALID:1234
X-PRIMARY-CALENDAR:TRUE
BEGIN:VEVENT
CREATED:20240813T081717
UID:78737
DTSTART:20250908
DTEND:20250908
DTSTAMP:20260420T100846
LOCATION:2 Place de la République\, Strasbourg\, France
DESCRIPTION:Groupe de travail temporaire de la gestion de qualité (EN – en ligne)
SUMMARY:Groupe de travail temporaire de la gestion de qualité (EN – en ligne)
ORGANIZER;CN=CESNI:mailto:info@cesni.eu
URL;VALUE=URI:https://www.cesni.eu/evenements/groupe-de-travail-temporaire-de-la-gestion-de-qualite-en-en-ligne-3/
TRANSP:OPAQUE
END:VEVENT
END:VCALENDAR