BEGIN:VCALENDAR
VERSION:2.0
PRODID:CESNI - Comité Européen pour l’Élaboration de Standards dans le domaine de la Navigation Intérieure
CALSCALE:GREGORIAN
X-WR-TIMEZONE:Europe/Paris
X-WR-RELCALID:1234
X-PRIMARY-CALENDAR:TRUE
BEGIN:VEVENT
CREATED:20191105T135125
UID:55206
DTSTART:20201103
DTEND:20201103
DTSTAMP:20260421T005225
LOCATION:1 Place de la République\, 67000 Strasbourg\, France
DESCRIPTION:Temporary working group on crew-related requirements – ONLINE MEETING
SUMMARY:Temporary working group on crew-related requirements – ONLINE MEETING
ORGANIZER;CN=CESNI:mailto:info@cesni.eu
URL;VALUE=URI:https://www.cesni.eu/en/evenements/temporary-working-group-on-crew-related-requirements-3/
TRANSP:OPAQUE
END:VEVENT
END:VCALENDAR