BEGIN:VCALENDAR
VERSION:2.0
PRODID:CESNI - Comité Européen pour l’Élaboration de Standards dans le domaine de la Navigation Intérieure
CALSCALE:GREGORIAN
X-WR-TIMEZONE:Europe/Paris
X-WR-RELCALID:1234
X-PRIMARY-CALENDAR:TRUE
BEGIN:VEVENT
CREATED:20171130T151925
UID:36736
DTSTART:20180130
DTEND:20180130
DTSTAMP:20260421T083805
LOCATION:Palais du Rhin\, Place de la République\, Strasbourg\, France
DESCRIPTION:Temporary working group on competencies standards
SUMMARY:Temporary working group on competencies standards
ORGANIZER;CN=CESNI:mailto:info@cesni.eu
URL;VALUE=URI:https://www.cesni.eu/en/evenements/temporary-working-group-on-competencies-standards/
TRANSP:OPAQUE
END:VEVENT
BEGIN:VEVENT
CREATED:20171130T151925
UID:63383
DTSTART:20180131
DTEND:20180131
DTSTAMP:20260421T083805
LOCATION:Palais du Rhin\, Place de la République\, Strasbourg\, France
DESCRIPTION:Temporary working group on competencies standards
SUMMARY:Temporary working group on competencies standards
ORGANIZER;CN=CESNI:mailto:info@cesni.eu
URL;VALUE=URI:https://www.cesni.eu/en/evenements/temporary-working-group-on-competencies-standards/
TRANSP:OPAQUE
END:VEVENT
END:VCALENDAR